BEGIN:VCALENDAR
VERSION:2.0
PRODID:-//Webb Shadle Public Library - ECPv6.15.20//NONSGML v1.0//EN
CALSCALE:GREGORIAN
METHOD:PUBLISH
X-WR-CALNAME:Webb Shadle Public Library
X-ORIGINAL-URL:https://www.webbshadle.org
X-WR-CALDESC:Events for Webb Shadle Public Library
REFRESH-INTERVAL;VALUE=DURATION:PT1H
X-Robots-Tag:noindex
X-PUBLISHED-TTL:PT1H
BEGIN:VTIMEZONE
TZID:America/Chicago
BEGIN:DAYLIGHT
TZOFFSETFROM:-0600
TZOFFSETTO:-0500
TZNAME:CDT
DTSTART:20220313T080000
END:DAYLIGHT
BEGIN:STANDARD
TZOFFSETFROM:-0500
TZOFFSETTO:-0600
TZNAME:CST
DTSTART:20221106T070000
END:STANDARD
BEGIN:DAYLIGHT
TZOFFSETFROM:-0600
TZOFFSETTO:-0500
TZNAME:CDT
DTSTART:20230312T080000
END:DAYLIGHT
BEGIN:STANDARD
TZOFFSETFROM:-0500
TZOFFSETTO:-0600
TZNAME:CST
DTSTART:20231105T070000
END:STANDARD
BEGIN:DAYLIGHT
TZOFFSETFROM:-0600
TZOFFSETTO:-0500
TZNAME:CDT
DTSTART:20240310T080000
END:DAYLIGHT
BEGIN:STANDARD
TZOFFSETFROM:-0500
TZOFFSETTO:-0600
TZNAME:CST
DTSTART:20241103T070000
END:STANDARD
END:VTIMEZONE
BEGIN:VEVENT
DTSTART;TZID=America/Chicago:20231101T100000
DTEND;TZID=America/Chicago:20231101T180000
DTSTAMP:20260423T075704
CREATED:20231031T204951Z
LAST-MODIFIED:20231031T205148Z
UID:5723-1698832800-1698861600@www.webbshadle.org
SUMMARY:TOY DRIVE
DESCRIPTION:
URL:https://www.webbshadle.org/events/toy-drive-for-marion-county/
ATTACH;FMTTYPE=image/png:https://www.webbshadle.org/wp-content/uploads/2023/10/TOY-DRIVE-FLYER-2023.png
END:VEVENT
BEGIN:VEVENT
DTSTART;TZID=America/Chicago:20231101T183000
DTEND;TZID=America/Chicago:20231101T193000
DTSTAMP:20260423T075704
CREATED:20231031T165833Z
LAST-MODIFIED:20231031T165833Z
UID:5718-1698863400-1698867000@www.webbshadle.org
SUMMARY:YOUTH GROUP
DESCRIPTION:
URL:https://www.webbshadle.org/events/youth-group-6/
ATTACH;FMTTYPE=image/png:https://www.webbshadle.org/wp-content/uploads/2022/11/EAST-ROOM-RESERVED-FOR-YOUTH-GROUP-1.png
END:VEVENT
BEGIN:VEVENT
DTSTART;TZID=America/Chicago:20231106T103000
DTEND;TZID=America/Chicago:20231106T113000
DTSTAMP:20260423T075704
CREATED:20231031T164624Z
LAST-MODIFIED:20231031T164624Z
UID:5713-1699266600-1699270200@www.webbshadle.org
SUMMARY:CHILDREN'S STORY TIME
DESCRIPTION:Join us for a fun hour of stories\, crafts and treats at the Webb Shadle Public Library!!
URL:https://www.webbshadle.org/events/childrens-story-time-51/
ATTACH;FMTTYPE=image/jpeg:https://www.webbshadle.org/wp-content/uploads/2021/06/story-time.jpg
END:VEVENT
BEGIN:VEVENT
DTSTART;TZID=America/Chicago:20231107T173000
DTEND;TZID=America/Chicago:20231107T183000
DTSTAMP:20260423T075704
CREATED:20231101T205556Z
LAST-MODIFIED:20231101T205716Z
UID:5731-1699378200-1699381800@www.webbshadle.org
SUMMARY:FALL FOR HEALTH
DESCRIPTION:
URL:https://www.webbshadle.org/events/fall-for-health/
ATTACH;FMTTYPE=application/pdf:https://www.webbshadle.org/wp-content/uploads/2023/11/FALL-for-HEALTH-2023-Flyer-NOV-7-1.pdf
END:VEVENT
BEGIN:VEVENT
DTSTART;TZID=America/Chicago:20231108T183000
DTEND;TZID=America/Chicago:20231108T193000
DTSTAMP:20260423T075704
CREATED:20231031T211606Z
LAST-MODIFIED:20231031T211707Z
UID:5725-1699468200-1699471800@www.webbshadle.org
SUMMARY:YOUTH GROUP
DESCRIPTION:
URL:https://www.webbshadle.org/events/youth-group-7/
ATTACH;FMTTYPE=image/png:https://www.webbshadle.org/wp-content/uploads/2022/11/EAST-ROOM-RESERVED-FOR-YOUTH-GROUP-1.png
END:VEVENT
BEGIN:VEVENT
DTSTART;TZID=America/Chicago:20231110T180000
DTEND;TZID=America/Chicago:20231110T200000
DTSTAMP:20260423T075704
CREATED:20230829T211751Z
LAST-MODIFIED:20230829T211751Z
UID:5655-1699639200-1699646400@www.webbshadle.org
SUMMARY:JIGSAW PUZZLE COMPETITION
DESCRIPTION:
URL:https://www.webbshadle.org/events/jigsaw-puzzle-competition-2/
ATTACH;FMTTYPE=image/png:https://www.webbshadle.org/wp-content/uploads/2023/08/JIGSAW-PUZZLE-COMPETITION-NOV.png
END:VEVENT
BEGIN:VEVENT
DTSTART;TZID=America/Chicago:20231111T093000
DTEND;TZID=America/Chicago:20231111T103000
DTSTAMP:20260423T075704
CREATED:20231031T165046Z
LAST-MODIFIED:20231031T165046Z
UID:5715-1699695000-1699698600@www.webbshadle.org
SUMMARY:TAIL WAGGIN' TUTORS
DESCRIPTION:Come share a story with a four-legged friend Phoebe\, a trained therapy dog.\nPhoebe will be available at the library for one-on-one or small group reading sessions with kids. No need to sign up. There will be plenty of time for everyone to spend a few minutes cuddling and reading with Phoebe.
URL:https://www.webbshadle.org/events/tail-waggin-tutors-19/
ATTACH;FMTTYPE=image/png:https://www.webbshadle.org/wp-content/uploads/2019/10/tail-waggin-tutors.png
END:VEVENT
BEGIN:VEVENT
DTSTART;TZID=America/Chicago:20231115T180000
DTEND;TZID=America/Chicago:20231115T190000
DTSTAMP:20260423T075704
CREATED:20231031T165614Z
LAST-MODIFIED:20231031T165614Z
UID:5717-1700071200-1700074800@www.webbshadle.org
SUMMARY:FRIENDS OF THE LIBRARY MEETING
DESCRIPTION:Ever thought about joining a fun\, vibrant group that helps the library and community by hosting fun and interesting events and helping to provide the library valuable resources? \nJoin us for a fun filled hour and see for yourself what it is all about.
URL:https://www.webbshadle.org/events/friends-of-the-library-meeting-24/
ATTACH;FMTTYPE=image/png:https://www.webbshadle.org/wp-content/uploads/2022/10/friends-of-the-library-image.png
END:VEVENT
BEGIN:VEVENT
DTSTART;TZID=America/Chicago:20231115T183000
DTEND;TZID=America/Chicago:20231115T193000
DTSTAMP:20260423T075704
CREATED:20231031T211810Z
LAST-MODIFIED:20231031T211810Z
UID:5726-1700073000-1700076600@www.webbshadle.org
SUMMARY:YOUTH GROUP
DESCRIPTION:
URL:https://www.webbshadle.org/events/youth-group-8/
ATTACH;FMTTYPE=image/png:https://www.webbshadle.org/wp-content/uploads/2022/11/EAST-ROOM-RESERVED-FOR-YOUTH-GROUP-1.png
END:VEVENT
BEGIN:VEVENT
DTSTART;TZID=America/Chicago:20231118T090000
DTEND;TZID=America/Chicago:20231118T120000
DTSTAMP:20260423T075704
CREATED:20231031T183715Z
LAST-MODIFIED:20231031T193314Z
UID:5719-1700298000-1700308800@www.webbshadle.org
SUMMARY:FRIENDS OF THE LIBRARY BOOK SALE
DESCRIPTION:
URL:https://www.webbshadle.org/events/friends-of-the-library-book-sale-6/
ATTACH;FMTTYPE=image/png:https://www.webbshadle.org/wp-content/uploads/2023/10/BOOK-SALE-2023-WINTER.png
END:VEVENT
BEGIN:VEVENT
DTSTART;TZID=America/Chicago:20231119T100000
DTEND;TZID=America/Chicago:20231119T170000
DTSTAMP:20260423T075704
CREATED:20230901T194235Z
LAST-MODIFIED:20230901T194440Z
UID:5664-1700388000-1700413200@www.webbshadle.org
SUMMARY:EAST ROOM RESERVED
DESCRIPTION:East room is reserved for the Harvey family.
URL:https://www.webbshadle.org/events/east-room-reserved-152/
ATTACH;FMTTYPE=image/png:https://www.webbshadle.org/wp-content/uploads/2022/09/EAST-ROOM-RESERVED-1.png
END:VEVENT
BEGIN:VEVENT
DTSTART;TZID=America/Chicago:20231120T103000
DTEND;TZID=America/Chicago:20231120T113000
DTSTAMP:20260423T075704
CREATED:20231031T164812Z
LAST-MODIFIED:20231031T164812Z
UID:5714-1700476200-1700479800@www.webbshadle.org
SUMMARY:CHILDREN'S STORY TIME
DESCRIPTION:Join us for a fun hour of stories\, crafts and treats at the Webb Shadle Public Library!!
URL:https://www.webbshadle.org/events/childrens-story-time-52/
ATTACH;FMTTYPE=image/jpeg:https://www.webbshadle.org/wp-content/uploads/2021/06/story-time.jpg
END:VEVENT
BEGIN:VEVENT
DTSTART;TZID=America/Chicago:20231121T190000
DTEND;TZID=America/Chicago:20231121T200000
DTSTAMP:20260423T075704
CREATED:20231031T165200Z
LAST-MODIFIED:20231106T205406Z
UID:5716-1700593200-1700596800@www.webbshadle.org
SUMMARY:LIBRARY BOARD MEETING
DESCRIPTION:
URL:https://www.webbshadle.org/events/library-board-meeting-22/
ATTACH;FMTTYPE=image/jpeg:https://www.webbshadle.org/wp-content/uploads/2022/09/BOARD-MEETING.jpg
END:VEVENT
BEGIN:VEVENT
DTSTART;VALUE=DATE:20231123
DTEND;VALUE=DATE:20231124
DTSTAMP:20260423T075704
CREATED:20230829T211943Z
LAST-MODIFIED:20230829T211943Z
UID:5657-1700697600-1700783999@www.webbshadle.org
SUMMARY:THANKSGIVING
DESCRIPTION:
URL:https://www.webbshadle.org/events/thanksgiving/
ATTACH;FMTTYPE=image/jpeg:https://www.webbshadle.org/wp-content/uploads/2019/10/HAPPY-THANKSGIVING.jpg
END:VEVENT
BEGIN:VEVENT
DTSTART;TZID=America/Chicago:20231124T100000
DTEND;TZID=America/Chicago:20231124T170000
DTSTAMP:20260423T075704
CREATED:20231031T184013Z
LAST-MODIFIED:20231031T184721Z
UID:5720-1700820000-1700845200@www.webbshadle.org
SUMMARY:LIBRARY CLOSED
DESCRIPTION:The library will be closed for the Thanksgiving holiday. \n 
URL:https://www.webbshadle.org/events/library-closed-27/
ATTACH;FMTTYPE=image/png:https://www.webbshadle.org/wp-content/uploads/2023/10/THANKSGIVING-CLOSED.png
END:VEVENT
BEGIN:VEVENT
DTSTART;TZID=America/Chicago:20231125T090000
DTEND;TZID=America/Chicago:20231125T120000
DTSTAMP:20260423T075704
CREATED:20231122T230038Z
LAST-MODIFIED:20231122T230038Z
UID:5756-1700902800-1700913600@www.webbshadle.org
SUMMARY:LETTERS TO SANTA
DESCRIPTION:
URL:https://www.webbshadle.org/events/letters-to-santa-3/
ATTACH;FMTTYPE=image/png:https://www.webbshadle.org/wp-content/uploads/2023/11/Letters-to-Santa-flyer-2023.png
END:VEVENT
BEGIN:VEVENT
DTSTART;TZID=America/Chicago:20231129T183000
DTEND;TZID=America/Chicago:20231129T193000
DTSTAMP:20260423T075704
CREATED:20231031T211918Z
LAST-MODIFIED:20231031T211918Z
UID:5727-1701282600-1701286200@www.webbshadle.org
SUMMARY:YOUTH GROUP
DESCRIPTION:
URL:https://www.webbshadle.org/events/youth-group-9/
ATTACH;FMTTYPE=image/png:https://www.webbshadle.org/wp-content/uploads/2022/11/EAST-ROOM-RESERVED-FOR-YOUTH-GROUP-1.png
END:VEVENT
END:VCALENDAR