BEGIN:VCALENDAR
VERSION:2.0
PRODID:-//Webb Shadle Public Library - ECPv6.15.20//NONSGML v1.0//EN
CALSCALE:GREGORIAN
METHOD:PUBLISH
X-ORIGINAL-URL:https://www.webbshadle.org
X-WR-CALDESC:Events for Webb Shadle Public Library
REFRESH-INTERVAL;VALUE=DURATION:PT1H
X-Robots-Tag:noindex
X-PUBLISHED-TTL:PT1H
BEGIN:VTIMEZONE
TZID:America/Chicago
BEGIN:DAYLIGHT
TZOFFSETFROM:-0600
TZOFFSETTO:-0500
TZNAME:CDT
DTSTART:20220313T080000
END:DAYLIGHT
BEGIN:STANDARD
TZOFFSETFROM:-0500
TZOFFSETTO:-0600
TZNAME:CST
DTSTART:20221106T070000
END:STANDARD
BEGIN:DAYLIGHT
TZOFFSETFROM:-0600
TZOFFSETTO:-0500
TZNAME:CDT
DTSTART:20230312T080000
END:DAYLIGHT
BEGIN:STANDARD
TZOFFSETFROM:-0500
TZOFFSETTO:-0600
TZNAME:CST
DTSTART:20231105T070000
END:STANDARD
BEGIN:DAYLIGHT
TZOFFSETFROM:-0600
TZOFFSETTO:-0500
TZNAME:CDT
DTSTART:20240310T080000
END:DAYLIGHT
BEGIN:STANDARD
TZOFFSETFROM:-0500
TZOFFSETTO:-0600
TZNAME:CST
DTSTART:20241103T070000
END:STANDARD
END:VTIMEZONE
BEGIN:VEVENT
DTSTART;TZID=America/Chicago:20231008T140000
DTEND;TZID=America/Chicago:20231008T150000
DTSTAMP:20260421T000009
CREATED:20230908T215727Z
LAST-MODIFIED:20230908T215727Z
UID:5668-1696773600-1696777200@www.webbshadle.org
SUMMARY:EAST ROOM RESERVED
DESCRIPTION:
URL:https://www.webbshadle.org/events/east-room-reserved-153/
ATTACH;FMTTYPE=image/png:https://www.webbshadle.org/wp-content/uploads/2022/10/JUST-US-4H.png
END:VEVENT
BEGIN:VEVENT
DTSTART;TZID=America/Chicago:20231010T173000
DTEND;TZID=America/Chicago:20231010T183000
DTSTAMP:20260421T000009
CREATED:20231010T193212Z
LAST-MODIFIED:20231010T193212Z
UID:5703-1696959000-1696962600@www.webbshadle.org
SUMMARY:FINE ARTS BOOSTER CLUB MEETING
DESCRIPTION:
URL:https://www.webbshadle.org/events/fine-arts-booster-club-meeting-13/
ATTACH;FMTTYPE=image/png:https://www.webbshadle.org/wp-content/uploads/2022/10/fine-arts-3.png
END:VEVENT
BEGIN:VEVENT
DTSTART;TZID=America/Chicago:20231011T183000
DTEND;TZID=America/Chicago:20231011T193000
DTSTAMP:20260421T000009
CREATED:20231010T154627Z
LAST-MODIFIED:20231010T155259Z
UID:5699-1697049000-1697052600@www.webbshadle.org
SUMMARY:YOUTH GROUP
DESCRIPTION:
URL:https://www.webbshadle.org/events/youth-group-3/
ATTACH;FMTTYPE=image/png:https://www.webbshadle.org/wp-content/uploads/2022/11/EAST-ROOM-RESERVED-FOR-YOUTH-GROUP-1.png
END:VEVENT
BEGIN:VEVENT
DTSTART;TZID=America/Chicago:20231016T103000
DTEND;TZID=America/Chicago:20231016T113000
DTSTAMP:20260421T000009
CREATED:20231010T155452Z
LAST-MODIFIED:20231010T155452Z
UID:5702-1697452200-1697455800@www.webbshadle.org
SUMMARY:CHILDREN'S STORY TIME
DESCRIPTION:
URL:https://www.webbshadle.org/events/childrens-story-time-50/
ATTACH;FMTTYPE=image/jpeg:https://www.webbshadle.org/wp-content/uploads/2021/06/story-time.jpg
END:VEVENT
BEGIN:VEVENT
DTSTART;TZID=America/Chicago:20231017T190000
DTEND;TZID=America/Chicago:20231017T200000
DTSTAMP:20260421T000009
CREATED:20231010T154058Z
LAST-MODIFIED:20231010T154058Z
UID:5697-1697569200-1697572800@www.webbshadle.org
SUMMARY:FRIENDS OF THE LIBRARY MEETING
DESCRIPTION:All are welcome!!!
URL:https://www.webbshadle.org/events/friends-of-the-library-meeting-23/
ATTACH;FMTTYPE=image/jpeg:https://www.webbshadle.org/wp-content/uploads/2023/08/FRIENDS-OF-THE-LIBRARY-MEETING-IMAGE.jpg
END:VEVENT
BEGIN:VEVENT
DTSTART;TZID=America/Chicago:20231018T183000
DTEND;TZID=America/Chicago:20231018T193000
DTSTAMP:20260421T000009
CREATED:20231010T154737Z
LAST-MODIFIED:20231010T154836Z
UID:5700-1697653800-1697657400@www.webbshadle.org
SUMMARY:YOUTH GROUP
DESCRIPTION:
URL:https://www.webbshadle.org/events/youth-group-4/
ATTACH;FMTTYPE=image/png:https://www.webbshadle.org/wp-content/uploads/2022/11/EAST-ROOM-RESERVED-FOR-YOUTH-GROUP-1.png
END:VEVENT
BEGIN:VEVENT
DTSTART;TZID=America/Chicago:20231018T190000
DTEND;TZID=America/Chicago:20231018T200000
DTSTAMP:20260421T000009
CREATED:20231010T154437Z
LAST-MODIFIED:20231010T154437Z
UID:5698-1697655600-1697659200@www.webbshadle.org
SUMMARY:LIBRARY BOARD MEETING
DESCRIPTION:
URL:https://www.webbshadle.org/events/library-board-meeting-21/
ATTACH;FMTTYPE=image/jpeg:https://www.webbshadle.org/wp-content/uploads/2022/09/BOARD-MEETING.jpg
END:VEVENT
BEGIN:VEVENT
DTSTART;TZID=America/Chicago:20231021T103000
DTEND;TZID=America/Chicago:20231021T113000
DTSTAMP:20260421T000009
CREATED:20230829T211256Z
LAST-MODIFIED:20230901T200130Z
UID:5651-1697884200-1697887800@www.webbshadle.org
SUMMARY:PUMPKIN PAINTING EVENT
DESCRIPTION:Celebrate Halloween in a merry not scary way!\nBring your kids to the Webb Shadle Public Library to paint a free pumpkin and to listen to Pleasantville’s own library witch tell some not too scary Halloween stories!\nPumpkins will be limited to the first 60 children.\nSpecial guest: therapy dog Phoebe the Tail Waggin” Tutor
URL:https://www.webbshadle.org/events/pumpkin-painting-event-5/
ATTACH;FMTTYPE=image/jpeg:https://www.webbshadle.org/wp-content/uploads/2023/08/Pumpkin-Painting-2023-fb-image.jpg
END:VEVENT
BEGIN:VEVENT
DTSTART;TZID=America/Chicago:20231025T183000
DTEND;TZID=America/Chicago:20231025T193000
DTSTAMP:20260421T000009
CREATED:20231010T155130Z
LAST-MODIFIED:20231010T155130Z
UID:5701-1698258600-1698262200@www.webbshadle.org
SUMMARY:YOUTH GROUP
DESCRIPTION:
URL:https://www.webbshadle.org/events/youth-group-5/
ATTACH;FMTTYPE=image/png:https://www.webbshadle.org/wp-content/uploads/2022/11/EAST-ROOM-RESERVED-FOR-YOUTH-GROUP-1.png
END:VEVENT
BEGIN:VEVENT
DTSTART;VALUE=DATE:20231031
DTEND;VALUE=DATE:20231101
DTSTAMP:20260421T000009
CREATED:20230829T211425Z
LAST-MODIFIED:20230829T211425Z
UID:5654-1698710400-1698796799@www.webbshadle.org
SUMMARY:HAPPY HALLOWEEN
DESCRIPTION:
URL:https://www.webbshadle.org/events/happy-halloween-5/
ATTACH;FMTTYPE=image/png:https://www.webbshadle.org/wp-content/uploads/2022/10/HAPPY-HALLOWEEN.png
END:VEVENT
END:VCALENDAR