BEGIN:VCALENDAR
VERSION:2.0
PRODID:-//Webb Shadle Public Library - ECPv6.15.20//NONSGML v1.0//EN
CALSCALE:GREGORIAN
METHOD:PUBLISH
X-ORIGINAL-URL:https://www.webbshadle.org
X-WR-CALDESC:Events for Webb Shadle Public Library
REFRESH-INTERVAL;VALUE=DURATION:PT1H
X-Robots-Tag:noindex
X-PUBLISHED-TTL:PT1H
BEGIN:VTIMEZONE
TZID:America/Chicago
BEGIN:DAYLIGHT
TZOFFSETFROM:-0600
TZOFFSETTO:-0500
TZNAME:CDT
DTSTART:20210314T080000
END:DAYLIGHT
BEGIN:STANDARD
TZOFFSETFROM:-0500
TZOFFSETTO:-0600
TZNAME:CST
DTSTART:20211107T070000
END:STANDARD
BEGIN:DAYLIGHT
TZOFFSETFROM:-0600
TZOFFSETTO:-0500
TZNAME:CDT
DTSTART:20220313T080000
END:DAYLIGHT
BEGIN:STANDARD
TZOFFSETFROM:-0500
TZOFFSETTO:-0600
TZNAME:CST
DTSTART:20221106T070000
END:STANDARD
BEGIN:DAYLIGHT
TZOFFSETFROM:-0600
TZOFFSETTO:-0500
TZNAME:CDT
DTSTART:20230312T080000
END:DAYLIGHT
BEGIN:STANDARD
TZOFFSETFROM:-0500
TZOFFSETTO:-0600
TZNAME:CST
DTSTART:20231105T070000
END:STANDARD
END:VTIMEZONE
BEGIN:VEVENT
DTSTART;TZID=America/Chicago:20220802T190000
DTEND;TZID=America/Chicago:20220802T200000
DTSTAMP:20260419T085747
CREATED:20220801T182718Z
LAST-MODIFIED:20220801T182718Z
UID:5069-1659466800-1659470400@www.webbshadle.org
SUMMARY:EAST ROOM RESERVED
DESCRIPTION:East room reserved for Lois Turnage Memorial Meeting. \nHosted by: Julia Stender
URL:https://www.webbshadle.org/events/east-room-reserved-111/
ATTACH;FMTTYPE=image/png:https://www.webbshadle.org/wp-content/uploads/2019/02/east-room-reserved-post.png
END:VEVENT
BEGIN:VEVENT
DTSTART;TZID=America/Chicago:20220804T173000
DTEND;TZID=America/Chicago:20220804T183000
DTSTAMP:20260419T085747
CREATED:20220801T183138Z
LAST-MODIFIED:20220801T183138Z
UID:5070-1659634200-1659637800@www.webbshadle.org
SUMMARY:FINE ARTS BOOSTER CLUB MEETING
DESCRIPTION:East room reserved for Fine Arts Booster Club Meeting.
URL:https://www.webbshadle.org/events/fine-arts-booster-club-meeting-7/
ATTACH;FMTTYPE=image/png:https://www.webbshadle.org/wp-content/uploads/2019/02/east-room-reserved-post.png
END:VEVENT
BEGIN:VEVENT
DTSTART;TZID=America/Chicago:20220810T183000
DTEND;TZID=America/Chicago:20220810T193000
DTSTAMP:20260419T085747
CREATED:20220803T173539Z
LAST-MODIFIED:20220803T173539Z
UID:5073-1660156200-1660159800@www.webbshadle.org
SUMMARY:LIBRARY BOARD MEETING
DESCRIPTION:
URL:https://www.webbshadle.org/events/library-board-meeting-16/
ATTACH;FMTTYPE=image/jpeg:https://www.webbshadle.org/wp-content/uploads/2021/04/board.jpg
END:VEVENT
BEGIN:VEVENT
DTSTART;TZID=America/Chicago:20220820T093000
DTEND;TZID=America/Chicago:20220820T103000
DTSTAMP:20260419T085747
CREATED:20220812T201617Z
LAST-MODIFIED:20220812T201641Z
UID:5076-1660987800-1660991400@www.webbshadle.org
SUMMARY:TAIL WAGGIN' TUTORS
DESCRIPTION:
URL:https://www.webbshadle.org/events/tail-waggin-tutors-18/
ATTACH;FMTTYPE=image/png:https://www.webbshadle.org/wp-content/uploads/2022/08/TAIL-WAGGIN-TUTORS-AUG.png
END:VEVENT
BEGIN:VEVENT
DTSTART;TZID=America/Chicago:20220822T110000
DTEND;TZID=America/Chicago:20220822T120000
DTSTAMP:20260419T085747
CREATED:20220812T202747Z
LAST-MODIFIED:20220812T202747Z
UID:5078-1661166000-1661169600@www.webbshadle.org
SUMMARY:FRESH CONVERSATIONS
DESCRIPTION:
URL:https://www.webbshadle.org/events/fresh-conversations-7/
ATTACH;FMTTYPE=application/pdf:https://www.webbshadle.org/wp-content/uploads/2022/08/Fresh-Conversations-Flyer-August-2022.pdf
END:VEVENT
BEGIN:VEVENT
DTSTART;TZID=America/Chicago:20220822T190000
DTEND;TZID=America/Chicago:20220822T200000
DTSTAMP:20260419T085747
CREATED:20220803T173720Z
LAST-MODIFIED:20220803T173720Z
UID:5074-1661194800-1661198400@www.webbshadle.org
SUMMARY:FRIENDS OF THE LIBRARY MEETING
DESCRIPTION:
URL:https://www.webbshadle.org/events/friends-of-the-library-meeting-15/
ATTACH;FMTTYPE=image/jpeg:https://www.webbshadle.org/wp-content/uploads/2021/05/FRIENDS-MEETING.jpg
END:VEVENT
END:VCALENDAR