BEGIN:VCALENDAR
VERSION:2.0
PRODID:-//Webb Shadle Public Library - ECPv6.15.20//NONSGML v1.0//EN
CALSCALE:GREGORIAN
METHOD:PUBLISH
X-ORIGINAL-URL:https://www.webbshadle.org
X-WR-CALDESC:Events for Webb Shadle Public Library
REFRESH-INTERVAL;VALUE=DURATION:PT1H
X-Robots-Tag:noindex
X-PUBLISHED-TTL:PT1H
BEGIN:VTIMEZONE
TZID:America/Chicago
BEGIN:DAYLIGHT
TZOFFSETFROM:-0600
TZOFFSETTO:-0500
TZNAME:CDT
DTSTART:20180311T080000
END:DAYLIGHT
BEGIN:STANDARD
TZOFFSETFROM:-0500
TZOFFSETTO:-0600
TZNAME:CST
DTSTART:20181104T070000
END:STANDARD
BEGIN:DAYLIGHT
TZOFFSETFROM:-0600
TZOFFSETTO:-0500
TZNAME:CDT
DTSTART:20190310T080000
END:DAYLIGHT
BEGIN:STANDARD
TZOFFSETFROM:-0500
TZOFFSETTO:-0600
TZNAME:CST
DTSTART:20191103T070000
END:STANDARD
BEGIN:DAYLIGHT
TZOFFSETFROM:-0600
TZOFFSETTO:-0500
TZNAME:CDT
DTSTART:20200308T080000
END:DAYLIGHT
BEGIN:STANDARD
TZOFFSETFROM:-0500
TZOFFSETTO:-0600
TZNAME:CST
DTSTART:20201101T070000
END:STANDARD
END:VTIMEZONE
BEGIN:VEVENT
DTSTART;TZID=America/Chicago:20190204T103000
DTEND;TZID=America/Chicago:20190204T113000
DTSTAMP:20260421T061725
CREATED:20190123T175509Z
LAST-MODIFIED:20190123T175509Z
UID:1812-1549276200-1549279800@www.webbshadle.org
SUMMARY:Children's Story Time
DESCRIPTION:Join us for a fun hour of stories\, crafts\, and treats at the Webb Shadle Memorial Library\, hosted by Sammi Fulmer.
URL:https://www.webbshadle.org/events/childrens-story-time-19/
ATTACH;FMTTYPE=image/jpeg:https://www.webbshadle.org/wp-content/uploads/2018/12/STORY-TIME-ZEBRA-e1544559314218.jpg
END:VEVENT
BEGIN:VEVENT
DTSTART;TZID=America/Chicago:20190205T100000
DTEND;TZID=America/Chicago:20190205T170000
DTSTAMP:20260421T061725
CREATED:20190122T230919Z
LAST-MODIFIED:20190123T174758Z
UID:1788-1549360800-1549386000@www.webbshadle.org
SUMMARY:DIY Valentine Cards
DESCRIPTION:Stop by the library from February 1st to February 13th and create a Valentine for someone you love! \n 
URL:https://www.webbshadle.org/events/diy-valentine-cards-3/
END:VEVENT
BEGIN:VEVENT
DTSTART;TZID=America/Chicago:20190206T090000
DTEND;TZID=America/Chicago:20190206T120000
DTSTAMP:20260421T061725
CREATED:20190116T164450Z
LAST-MODIFIED:20190116T164450Z
UID:1734-1549443600-1549454400@www.webbshadle.org
SUMMARY:Mah Jongg
DESCRIPTION:Mah Jongg at Webb Shadle- everyone welcome. The group offers free lessons to those who would like to learn. Just drop by!
URL:https://www.webbshadle.org/events/mah-jongg-3/
END:VEVENT
BEGIN:VEVENT
DTSTART;TZID=America/Chicago:20190206T090000
DTEND;TZID=America/Chicago:20190206T180000
DTSTAMP:20260421T061725
CREATED:20190122T231033Z
LAST-MODIFIED:20190123T174716Z
UID:1790-1549443600-1549476000@www.webbshadle.org
SUMMARY:DIY Valentine Cards
DESCRIPTION:Stop by the library from February 1st to February 13th and create a Valentine for someone you love! \n 
URL:https://www.webbshadle.org/events/diy-valentine-cards-4/
END:VEVENT
BEGIN:VEVENT
DTSTART;TZID=America/Chicago:20190206T153000
DTEND;TZID=America/Chicago:20190206T170000
DTSTAMP:20260421T061725
CREATED:20190129T203110Z
LAST-MODIFIED:20190129T203110Z
UID:1885-1549467000-1549472400@www.webbshadle.org
SUMMARY:Kid's Club Wednesdays
DESCRIPTION:St. Paul’s United Methodist Church is hosting their Wednesday after-school program for elementary kids at the Webb Shadle Memorial Library!! \n 
URL:https://www.webbshadle.org/events/kids-club-wednesdays-2/
ATTACH;FMTTYPE=image/jpeg:https://www.webbshadle.org/wp-content/uploads/2019/01/kids-club-image.jpg
END:VEVENT
BEGIN:VEVENT
DTSTART;TZID=America/Chicago:20190208T100000
DTEND;TZID=America/Chicago:20190208T170000
DTSTAMP:20260421T061725
CREATED:20190122T231128Z
LAST-MODIFIED:20190123T174610Z
UID:1792-1549620000-1549645200@www.webbshadle.org
SUMMARY:DIY Valentine Cards
DESCRIPTION:Stop by the library from February 1st to February 13th and create a Valentine for someone you love! \n 
URL:https://www.webbshadle.org/events/diy-valentine-cards-5/
END:VEVENT
BEGIN:VEVENT
DTSTART;TZID=America/Chicago:20190209T090000
DTEND;TZID=America/Chicago:20190209T120000
DTSTAMP:20260421T061725
CREATED:20190122T231228Z
LAST-MODIFIED:20190123T174533Z
UID:1794-1549702800-1549713600@www.webbshadle.org
SUMMARY:DIY Valentine Cards
DESCRIPTION:Stop by the library from February 1st to February 13th and create a Valentine for someone you love! \n 
URL:https://www.webbshadle.org/events/diy-valentine-cards-6/
END:VEVENT
BEGIN:VEVENT
DTSTART;TZID=America/Chicago:20190209T100000
DTEND;TZID=America/Chicago:20190209T110000
DTSTAMP:20260421T061725
CREATED:20190123T190913Z
LAST-MODIFIED:20190123T190913Z
UID:1838-1549706400-1549710000@www.webbshadle.org
SUMMARY:Webb Shadle Book Club
DESCRIPTION:The February meeting of the Webb Shadle Book Club will focus on happy\, happy\, happy. Pick a romance\, something with a happy ever after kind of ending\, or even just an article on being happy. Think light and relaxing! Bring it along and tell us about it.
URL:https://www.webbshadle.org/events/webb-shadle-book-club-3/
ATTACH;FMTTYPE=image/jpeg:https://www.webbshadle.org/wp-content/uploads/2019/01/50787691_2551984401497712_8592526694957449216_n.jpg
END:VEVENT
BEGIN:VEVENT
DTSTART;TZID=America/Chicago:20190211T100000
DTEND;TZID=America/Chicago:20190211T170000
DTSTAMP:20260421T061725
CREATED:20190122T231336Z
LAST-MODIFIED:20190123T174326Z
UID:1796-1549879200-1549904400@www.webbshadle.org
SUMMARY:DIY Valentine Cards
DESCRIPTION:Stop by the library from February 1st to February 13th and create a Valentine for someone you love! \n 
URL:https://www.webbshadle.org/events/diy-valentine-cards-7/
END:VEVENT
BEGIN:VEVENT
DTSTART;TZID=America/Chicago:20190211T101500
DTEND;TZID=America/Chicago:20190211T120000
DTSTAMP:20260421T061725
CREATED:20190116T164957Z
LAST-MODIFIED:20190116T164957Z
UID:1742-1549880100-1549886400@www.webbshadle.org
SUMMARY:Friends of Webb Shadle Memorial Library Meeting
DESCRIPTION:The Friends of the Webb Shadle Memorial Library advocacy group will meet Monday\, February 11th at 10:15 am. The group is open to anyone who would like discuss and help support improvement projects as well as the longevity of the Webb Shadle Memorial Library. Please join us!
URL:https://www.webbshadle.org/events/friends-of-webb-shadle-memorial-library-meeting/
END:VEVENT
BEGIN:VEVENT
DTSTART;TZID=America/Chicago:20190212T100000
DTEND;TZID=America/Chicago:20190212T170000
DTSTAMP:20260421T061725
CREATED:20190122T231429Z
LAST-MODIFIED:20190122T231635Z
UID:1798-1549965600-1549990800@www.webbshadle.org
SUMMARY:DIY Valentine Cards
DESCRIPTION:Stop by the library from February 1st to February 13th and create a Valentine for someone you love! \n 
URL:https://www.webbshadle.org/events/diy-valentine-cards-8/
END:VEVENT
BEGIN:VEVENT
DTSTART;TZID=America/Chicago:20190213T090000
DTEND;TZID=America/Chicago:20190213T120000
DTSTAMP:20260421T061725
CREATED:20190116T164540Z
LAST-MODIFIED:20190116T164540Z
UID:1736-1550048400-1550059200@www.webbshadle.org
SUMMARY:Mah Jongg
DESCRIPTION:Mah Jongg at Webb Shadle- everyone welcome. The group offers free lessons to those who would like to learn. Just drop by!
URL:https://www.webbshadle.org/events/mah-jongg-4/
END:VEVENT
BEGIN:VEVENT
DTSTART;TZID=America/Chicago:20190213T090000
DTEND;TZID=America/Chicago:20190213T180000
DTSTAMP:20260421T061725
CREATED:20190122T231530Z
LAST-MODIFIED:20190122T231530Z
UID:1800-1550048400-1550080800@www.webbshadle.org
SUMMARY:DIY Valentine Cards
DESCRIPTION:Stop by the library from February 1st to February 13th and create a Valentine for someone you love! \n 
URL:https://www.webbshadle.org/events/diy-valentine-cards-9/
END:VEVENT
BEGIN:VEVENT
DTSTART;TZID=America/Chicago:20190213T153000
DTEND;TZID=America/Chicago:20190213T170000
DTSTAMP:20260421T061725
CREATED:20190129T203319Z
LAST-MODIFIED:20190129T203319Z
UID:1887-1550071800-1550077200@www.webbshadle.org
SUMMARY:Kid's Club Wednesdays
DESCRIPTION:St. Paul’s United Methodist Church is hosting their Wednesday after-school program for elementary kids at the Webb Shadle Memorial Library!! \n 
URL:https://www.webbshadle.org/events/kids-club-wednesdays-3/
ATTACH;FMTTYPE=image/jpeg:https://www.webbshadle.org/wp-content/uploads/2019/01/kids-club-image.jpg
END:VEVENT
BEGIN:VEVENT
DTSTART;VALUE=DATE:20190214
DTEND;VALUE=DATE:20190215
DTSTAMP:20260421T061725
CREATED:20190129T205145Z
LAST-MODIFIED:20190129T205145Z
UID:1895-1550102400-1550188799@www.webbshadle.org
SUMMARY:Happy Valentine's Day
DESCRIPTION:
URL:https://www.webbshadle.org/events/happy-valentines-day/
ATTACH;FMTTYPE=image/jpeg:https://www.webbshadle.org/wp-content/uploads/2019/01/happy-valentines-day-image.jpg
END:VEVENT
BEGIN:VEVENT
DTSTART;TZID=America/Chicago:20190216T093000
DTEND;TZID=America/Chicago:20190216T103000
DTSTAMP:20260421T061725
CREATED:20190105T173551Z
LAST-MODIFIED:20190105T173551Z
UID:1642-1550309400-1550313000@www.webbshadle.org
SUMMARY:Tail Waggin Tutors
DESCRIPTION:Come share a story with a four-legged friend! Phoebe a trained therapy dog will be available at the library for one-on-one or small group reading sessions with kids. No need to sign up! There will be enough time for everyone to spend a few minutes cuddling and reading with Phoebe.
URL:https://www.webbshadle.org/events/tail-waggin-tutors/
ATTACH;FMTTYPE=image/png:https://www.webbshadle.org/wp-content/uploads/2019/01/phoebe.png
END:VEVENT
BEGIN:VEVENT
DTSTART;TZID=America/Chicago:20190216T100000
DTEND;TZID=America/Chicago:20190216T120000
DTSTAMP:20260421T061725
CREATED:20190128T230429Z
LAST-MODIFIED:20190128T230456Z
UID:1866-1550311200-1550318400@www.webbshadle.org
SUMMARY:Quilt Club
DESCRIPTION:New quilting club to meet at Webb Shadle Library. More details to come!
URL:https://www.webbshadle.org/events/quilt-club/
ATTACH;FMTTYPE=image/jpeg:https://www.webbshadle.org/wp-content/uploads/2019/01/dinh-pham-527665-unsplash.jpg
END:VEVENT
BEGIN:VEVENT
DTSTART;TZID=America/Chicago:20190218T103000
DTEND;TZID=America/Chicago:20190218T113000
DTSTAMP:20260421T061725
CREATED:20190123T175619Z
LAST-MODIFIED:20190123T175619Z
UID:1814-1550485800-1550489400@www.webbshadle.org
SUMMARY:Children's Story Time
DESCRIPTION:Join us for a fun hour of stories\, crafts\, and treats at the Webb Shadle Memorial Library\, hosted by Sammi Fulmer.
URL:https://www.webbshadle.org/events/childrens-story-time-20/
END:VEVENT
BEGIN:VEVENT
DTSTART;TZID=America/Chicago:20190220T090000
DTEND;TZID=America/Chicago:20190220T120000
DTSTAMP:20260421T061725
CREATED:20190116T164627Z
LAST-MODIFIED:20190116T164627Z
UID:1738-1550653200-1550664000@www.webbshadle.org
SUMMARY:Mah Jongg
DESCRIPTION:Mah Jongg at Webb Shadle- everyone welcome. The group offers free lessons to those who would like to learn. Just drop by!
URL:https://www.webbshadle.org/events/mah-jongg-5/
END:VEVENT
BEGIN:VEVENT
DTSTART;TZID=America/Chicago:20190220T153000
DTEND;TZID=America/Chicago:20190220T170000
DTSTAMP:20260421T061725
CREATED:20190129T203445Z
LAST-MODIFIED:20190129T203445Z
UID:1890-1550676600-1550682000@www.webbshadle.org
SUMMARY:Kid's Club Wednesdays
DESCRIPTION:St. Paul’s United Methodist Church is hosting their Wednesday after-school program for elementary kids at the Webb Shadle Memorial Library!! \n 
URL:https://www.webbshadle.org/events/kids-club-wednesdays-4/
ATTACH;FMTTYPE=image/jpeg:https://www.webbshadle.org/wp-content/uploads/2019/01/kids-club-image.jpg
END:VEVENT
BEGIN:VEVENT
DTSTART;TZID=America/Chicago:20190223T100000
DTEND;TZID=America/Chicago:20190223T120000
DTSTAMP:20260421T061725
CREATED:20181113T222616Z
LAST-MODIFIED:20190118T170721Z
UID:1525-1550916000-1550923200@www.webbshadle.org
SUMMARY:BINGO-NEW DATE!
DESCRIPTION:Because of another snow storm\, we decided to postpone Bingo. We don’t want anyone trying to come and getting hurt due to slick roads and snow levels. \nOur new date is Saturday\, February 23rd. Join us at the library for Bingo fun! This event is free and for all ages. The library will supply cards and prizes-all you need to do is show up. Come fight those winter doldrums with some fun with your Webb Shadle Memorial Library.
URL:https://www.webbshadle.org/events/bingo-2/
ATTACH;FMTTYPE=image/jpeg:https://www.webbshadle.org/wp-content/uploads/2018/11/bingo-image-jan.jpg
END:VEVENT
BEGIN:VEVENT
DTSTART;TZID=America/Chicago:20190227T090000
DTEND;TZID=America/Chicago:20190227T120000
DTSTAMP:20260421T061725
CREATED:20190116T164718Z
LAST-MODIFIED:20190116T164718Z
UID:1740-1551258000-1551268800@www.webbshadle.org
SUMMARY:Mah Jongg
DESCRIPTION:Mah Jongg at Webb Shadle- everyone welcome. The group offers free lessons to those who would like to learn. Just drop by!
URL:https://www.webbshadle.org/events/mah-jongg-6/
END:VEVENT
BEGIN:VEVENT
DTSTART;TZID=America/Chicago:20190227T153000
DTEND;TZID=America/Chicago:20190227T170000
DTSTAMP:20260421T061725
CREATED:20190129T203705Z
LAST-MODIFIED:20190129T203705Z
UID:1892-1551281400-1551286800@www.webbshadle.org
SUMMARY:Kid's Club Wednesdays
DESCRIPTION:St. Paul’s United Methodist Church is hosting their Wednesday after-school program for elementary kids at the Webb Shadle Memorial Library!! \n 
URL:https://www.webbshadle.org/events/kids-club-wednesdays-5/
ATTACH;FMTTYPE=image/jpeg:https://www.webbshadle.org/wp-content/uploads/2019/01/kids-club-image.jpg
END:VEVENT
BEGIN:VEVENT
DTSTART;TZID=America/Chicago:20190302T100000
DTEND;TZID=America/Chicago:20190302T120000
DTSTAMP:20260421T061725
CREATED:20190129T205454Z
LAST-MODIFIED:20190129T205454Z
UID:1898-1551520800-1551528000@www.webbshadle.org
SUMMARY:East Room Reserved
DESCRIPTION:East Room Reserved for Birthday Party
URL:https://www.webbshadle.org/events/east-room-reserved-9/
ATTACH;FMTTYPE=image/png:https://www.webbshadle.org/wp-content/uploads/2018/12/reserved.png
END:VEVENT
BEGIN:VEVENT
DTSTART;TZID=America/Chicago:20190303T130000
DTEND;TZID=America/Chicago:20190303T150000
DTSTAMP:20260421T061725
CREATED:20190226T215441Z
LAST-MODIFIED:20190226T215441Z
UID:2127-1551618000-1551625200@www.webbshadle.org
SUMMARY:East Room Reserved
DESCRIPTION:East Room reserved for birthday party!
URL:https://www.webbshadle.org/events/east-room-reserved-10/
ATTACH;FMTTYPE=image/png:https://www.webbshadle.org/wp-content/uploads/2018/12/reserved.png
END:VEVENT
BEGIN:VEVENT
DTSTART;TZID=America/Chicago:20190304T103000
DTEND;TZID=America/Chicago:20190304T113000
DTSTAMP:20260421T061725
CREATED:20190123T175801Z
LAST-MODIFIED:20190123T175801Z
UID:1816-1551695400-1551699000@www.webbshadle.org
SUMMARY:Children's Story Time
DESCRIPTION:Join us for a fun hour of stories\, crafts\, and treats at the Webb Shadle Memorial Library\, hosted by Sammi Fulmer.
URL:https://www.webbshadle.org/events/childrens-story-time-21/
ATTACH;FMTTYPE=image/jpeg:https://www.webbshadle.org/wp-content/uploads/2018/12/STORY-TIME-ZEBRA-e1544559314218.jpg
END:VEVENT
BEGIN:VEVENT
DTSTART;TZID=America/Chicago:20190306T090000
DTEND;TZID=America/Chicago:20190306T120000
DTSTAMP:20260421T061725
CREATED:20190201T231259Z
LAST-MODIFIED:20190201T231259Z
UID:2021-1551862800-1551873600@www.webbshadle.org
SUMMARY:Mah Jongg
DESCRIPTION:Mah Jongg at Webb Shadle- everyone welcome. The group offers free lessons to those who would like to learn. Just drop by!
URL:https://www.webbshadle.org/events/mah-jongg-7/
ATTACH;FMTTYPE=image/jpeg:https://www.webbshadle.org/wp-content/uploads/2019/01/0116190926_HDR.jpg
END:VEVENT
BEGIN:VEVENT
DTSTART;TZID=America/Chicago:20190306T153000
DTEND;TZID=America/Chicago:20190306T170000
DTSTAMP:20260421T061725
CREATED:20190226T220116Z
LAST-MODIFIED:20190226T220116Z
UID:2129-1551886200-1551891600@www.webbshadle.org
SUMMARY:Kid’s Club Wednesdays
DESCRIPTION:St. Paul’s United Methodist Church is hosting their Wednesday after-school program for elementary kids at the Webb Shadle Memorial Library!! \n 
URL:https://www.webbshadle.org/events/kids-club-wednesdays-6/
ATTACH;FMTTYPE=image/jpeg:https://www.webbshadle.org/wp-content/uploads/2019/01/kids-club-image.jpg
END:VEVENT
BEGIN:VEVENT
DTSTART;TZID=America/Chicago:20190309T090000
DTEND;TZID=America/Chicago:20190309T130000
DTSTAMP:20260421T061725
CREATED:20190218T214610Z
LAST-MODIFIED:20190218T214610Z
UID:2110-1552122000-1552136400@www.webbshadle.org
SUMMARY:Quilt Group
DESCRIPTION:Local quilting enthusiasts should plan on joining other quilters at the Webb Shadle Library in the east room on Saturday\, March 9th. Bring your machine and materials and join in!
URL:https://www.webbshadle.org/events/quilt-group/
ATTACH;FMTTYPE=image/jpeg:https://www.webbshadle.org/wp-content/uploads/2019/02/IMG953499.jpg
END:VEVENT
BEGIN:VEVENT
DTSTART;TZID=America/Chicago:20190309T100000
DTEND;TZID=America/Chicago:20190309T110000
DTSTAMP:20260421T061725
CREATED:20190123T191149Z
LAST-MODIFIED:20190308T163151Z
UID:1841-1552125600-1552129200@www.webbshadle.org
SUMMARY:Webb Shadle Book Club
DESCRIPTION:The Webb Shadle Book Club’s March meeting will focus on all this snow we’ve had! What have you been reading while stuck inside during the snow days? Come discuss it with us! We’d love to see you and the weather finally looks friendly enough to emerge.
URL:https://www.webbshadle.org/events/webb-shadle-book-club-4/
ATTACH;FMTTYPE=image/jpeg:https://www.webbshadle.org/wp-content/uploads/2019/01/50787691_2551984401497712_8592526694957449216_n.jpg
END:VEVENT
END:VCALENDAR