BEGIN:VCALENDAR
VERSION:2.0
PRODID:-//Webb Shadle Public Library - ECPv6.15.20//NONSGML v1.0//EN
CALSCALE:GREGORIAN
METHOD:PUBLISH
X-ORIGINAL-URL:https://www.webbshadle.org
X-WR-CALDESC:Events for Webb Shadle Public Library
REFRESH-INTERVAL;VALUE=DURATION:PT1H
X-Robots-Tag:noindex
X-PUBLISHED-TTL:PT1H
BEGIN:VTIMEZONE
TZID:America/Chicago
BEGIN:DAYLIGHT
TZOFFSETFROM:-0600
TZOFFSETTO:-0500
TZNAME:CDT
DTSTART:20250309T080000
END:DAYLIGHT
BEGIN:STANDARD
TZOFFSETFROM:-0500
TZOFFSETTO:-0600
TZNAME:CST
DTSTART:20251102T070000
END:STANDARD
BEGIN:DAYLIGHT
TZOFFSETFROM:-0600
TZOFFSETTO:-0500
TZNAME:CDT
DTSTART:20260308T080000
END:DAYLIGHT
BEGIN:STANDARD
TZOFFSETFROM:-0500
TZOFFSETTO:-0600
TZNAME:CST
DTSTART:20261101T070000
END:STANDARD
BEGIN:DAYLIGHT
TZOFFSETFROM:-0600
TZOFFSETTO:-0500
TZNAME:CDT
DTSTART:20270314T080000
END:DAYLIGHT
BEGIN:STANDARD
TZOFFSETFROM:-0500
TZOFFSETTO:-0600
TZNAME:CST
DTSTART:20271107T070000
END:STANDARD
END:VTIMEZONE
BEGIN:VEVENT
DTSTART;TZID=America/Chicago:20260504T183000
DTEND;TZID=America/Chicago:20260504T193000
DTSTAMP:20260421T011005
CREATED:20260417T193844Z
LAST-MODIFIED:20260417T193844Z
UID:7367-1777919400-1777923000@www.webbshadle.org
SUMMARY:Friends of the Webb Shadle Public Library Meeting
DESCRIPTION:📚 Join us for an engaging discussion about the impactful contributions of the Friends of the Library at Webb Shadle Public Library!\nOur dynamic group is dedicated to enriching the community through fundraising projects\, volunteer support\, and advocacy efforts. 💪\n#FriendsOfTheLibrary #CommunitySupport\n🙌 What We Do:\nAs Friends\, we advocate for the library\, provide extra brainpower and helping hands\, and collaborate on programs and projects that meet the community’s needs for personal\, educational\, and professional growth.\n🌍 Our Mission:\nWe nurture a love for reading and learning among all ages\, creating a vibrant\, intellectually thriving community.\n🏛️ Why Join Us?\nTogether\, we can make a positive difference in the lives of children and adults alike—building a brighter future fueled by the love of reading and lifelong learning. 🌞
URL:https://www.webbshadle.org/events/friends-of-the-webb-shadle-public-library-meeting-2/
ATTACH;FMTTYPE=image/png:https://www.webbshadle.org/wp-content/uploads/2022/10/friends-of-the-library-image.png
END:VEVENT
END:VCALENDAR