BEGIN:VCALENDAR
VERSION:2.0
PRODID:-//Webb Shadle Public Library - ECPv6.15.20//NONSGML v1.0//EN
CALSCALE:GREGORIAN
METHOD:PUBLISH
X-WR-CALNAME:Webb Shadle Public Library
X-ORIGINAL-URL:https://www.webbshadle.org
X-WR-CALDESC:Events for Webb Shadle Public Library
REFRESH-INTERVAL;VALUE=DURATION:PT1H
X-Robots-Tag:noindex
X-PUBLISHED-TTL:PT1H
BEGIN:VTIMEZONE
TZID:America/Chicago
BEGIN:DAYLIGHT
TZOFFSETFROM:-0600
TZOFFSETTO:-0500
TZNAME:CDT
DTSTART:20250309T080000
END:DAYLIGHT
BEGIN:STANDARD
TZOFFSETFROM:-0500
TZOFFSETTO:-0600
TZNAME:CST
DTSTART:20251102T070000
END:STANDARD
BEGIN:DAYLIGHT
TZOFFSETFROM:-0600
TZOFFSETTO:-0500
TZNAME:CDT
DTSTART:20260308T080000
END:DAYLIGHT
BEGIN:STANDARD
TZOFFSETFROM:-0500
TZOFFSETTO:-0600
TZNAME:CST
DTSTART:20261101T070000
END:STANDARD
BEGIN:DAYLIGHT
TZOFFSETFROM:-0600
TZOFFSETTO:-0500
TZNAME:CDT
DTSTART:20270314T080000
END:DAYLIGHT
BEGIN:STANDARD
TZOFFSETFROM:-0500
TZOFFSETTO:-0600
TZNAME:CST
DTSTART:20271107T070000
END:STANDARD
END:VTIMEZONE
BEGIN:VEVENT
DTSTART;TZID=America/Chicago:20260418T100000
DTEND;TZID=America/Chicago:20260418T110000
DTSTAMP:20260420T220653
CREATED:20260417T192914Z
LAST-MODIFIED:20260417T192914Z
UID:7364-1776506400-1776510000@www.webbshadle.org
SUMMARY:BOOK BINGO
DESCRIPTION:BOOK BINGO📚🐛\nWho: Students in TK\, PK & Preschool – 2nd grade\nWhere: Webb Shadle Public Library\nWhen: Saturday\, April 18th\nTime: 10:00 AM – 11:00 AM\nGet ready for a morning filled with books and excitement! 🎉 Join us at Webb Shadle Public Library for a fantastic game of Bingo tailored just for our little friends from Preschool to 2nd grade.\n📚 Dive into a world of books and prizes! We’ve got an incredible assortment waiting just for you. 🎁 Let the fun begin as we match numbers and discover new stories together!\nBring your friends\, bring your smiles\, and let’s create get some books in your hands! See you there!
URL:https://www.webbshadle.org/events/book-bingo-4/
ATTACH;FMTTYPE=image/jpeg:https://www.webbshadle.org/wp-content/uploads/2026/04/Book-Bingo-2026.jpg
END:VEVENT
END:VCALENDAR