BEGIN:VCALENDAR
VERSION:2.0
PRODID:-//Webb Shadle Public Library - ECPv6.15.20//NONSGML v1.0//EN
CALSCALE:GREGORIAN
METHOD:PUBLISH
X-ORIGINAL-URL:https://www.webbshadle.org
X-WR-CALDESC:Events for Webb Shadle Public Library
REFRESH-INTERVAL;VALUE=DURATION:PT1H
X-Robots-Tag:noindex
X-PUBLISHED-TTL:PT1H
BEGIN:VTIMEZONE
TZID:America/Chicago
BEGIN:DAYLIGHT
TZOFFSETFROM:-0600
TZOFFSETTO:-0500
TZNAME:CDT
DTSTART:20220313T080000
END:DAYLIGHT
BEGIN:STANDARD
TZOFFSETFROM:-0500
TZOFFSETTO:-0600
TZNAME:CST
DTSTART:20221106T070000
END:STANDARD
BEGIN:DAYLIGHT
TZOFFSETFROM:-0600
TZOFFSETTO:-0500
TZNAME:CDT
DTSTART:20230312T080000
END:DAYLIGHT
BEGIN:STANDARD
TZOFFSETFROM:-0500
TZOFFSETTO:-0600
TZNAME:CST
DTSTART:20231105T070000
END:STANDARD
BEGIN:DAYLIGHT
TZOFFSETFROM:-0600
TZOFFSETTO:-0500
TZNAME:CDT
DTSTART:20240310T080000
END:DAYLIGHT
BEGIN:STANDARD
TZOFFSETFROM:-0500
TZOFFSETTO:-0600
TZNAME:CST
DTSTART:20241103T070000
END:STANDARD
END:VTIMEZONE
BEGIN:VEVENT
DTSTART;TZID=America/Chicago:20231018T183000
DTEND;TZID=America/Chicago:20231018T193000
DTSTAMP:20260423T052758
CREATED:20231010T154737Z
LAST-MODIFIED:20231010T154836Z
UID:5700-1697653800-1697657400@www.webbshadle.org
SUMMARY:YOUTH GROUP
DESCRIPTION:
URL:https://www.webbshadle.org/events/youth-group-4/
ATTACH;FMTTYPE=image/png:https://www.webbshadle.org/wp-content/uploads/2022/11/EAST-ROOM-RESERVED-FOR-YOUTH-GROUP-1.png
END:VEVENT
BEGIN:VEVENT
DTSTART;TZID=America/Chicago:20231018T190000
DTEND;TZID=America/Chicago:20231018T200000
DTSTAMP:20260423T052758
CREATED:20231010T154437Z
LAST-MODIFIED:20231010T154437Z
UID:5698-1697655600-1697659200@www.webbshadle.org
SUMMARY:LIBRARY BOARD MEETING
DESCRIPTION:
URL:https://www.webbshadle.org/events/library-board-meeting-21/
ATTACH;FMTTYPE=image/jpeg:https://www.webbshadle.org/wp-content/uploads/2022/09/BOARD-MEETING.jpg
END:VEVENT
END:VCALENDAR